View In:
ArcGIS JavaScript
ArcGIS Online map viewer
Google Earth
ArcMap
View Footprint In:
ArcGIS Online map viewer
Service Description: in conjunction with Elevation ptofile for thePoint
Name: HillShade2015
Description: in conjunction with Elevation ptofile for thePoint
Single Fused Map Cache: false
Extent:
XMin: 1685000.0110023678
YMin: 775000.0165006017
XMax: 1745000.0110023678
YMax: 855000.0165006017
Spatial Reference:
102719
(2264)
Initial Extent:
XMin: 1685000.0110023678
YMin: 775000.0165006017
XMax: 1745000.0110023678
YMax: 855000.0165006017
Spatial Reference:
102719
(2264)
Full Extent:
XMin: 1685000.0110023678
YMin: 775000.0165006017
XMax: 1745000.0110023678
YMax: 855000.0165006017
Spatial Reference:
102719
(2264)
Pixel Size X: 3.125
Pixel Size Y: 3.125
Band Count: 1
Pixel Type: U8
RasterFunction Infos: N/A
Mensuration Capabilities: Basic
Has Histograms: true
Has Colormap: false
Has Multi Dimensions : false
Rendering Rule:
Min Scale: 0
Max Scale: 0
Copyright Text:
Service Data Type: esriImageServiceDataTypeGeneric
Min Values: 0
Max Values: 254
Mean Values: 177.91975497359246
Standard Deviation Values: 17.17237300589075
Object ID Field:
Fields:
None
Default Mosaic Method: Center
Allowed Mosaic Methods:
SortField:
SortValue: null
Mosaic Operator: First
Default Compression Quality: 75
Default Resampling Method: Bilinear
Max Record Count: null
Max Image Height: 4100
Max Image Width: 15000
Max Download Image Count: null
Max Mosaic Image Count: null
Allow Raster Function: true
Allow Compute TiePoints: false
Supports Statistics: false
Supports Advanced Queries: false
Use StandardizedQueries: true
Raster Type Infos:
Name: Raster Dataset
Description: Supports all ArcGIS Raster Datasets
Help:
Has Raster Attribute Table: true
Edit Fields Info: null
Ownership Based AccessControl For Rasters: null
Child Resources:
Info
Raster Attribute Table
Histograms
Key Properties
Legend
MultiDimensionalInfo
rasterFunctionInfos
Supported Operations:
Export Image
Identify
Measure
Compute Histograms
Get Samples
Compute Class Statistics